BEGIN:VCALENDAR
VERSION:2.0
PRODID:-//Michael Michaud Design Wholesale Shop - ECPv6.15.20//NONSGML v1.0//EN
CALSCALE:GREGORIAN
METHOD:PUBLISH
X-WR-CALNAME:Michael Michaud Design Wholesale Shop
X-ORIGINAL-URL:https://fourseasonsdesigngroup.com
X-WR-CALDESC:Events for Michael Michaud Design Wholesale Shop
REFRESH-INTERVAL;VALUE=DURATION:PT1H
X-Robots-Tag:noindex
X-PUBLISHED-TTL:PT1H
BEGIN:VTIMEZONE
TZID:America/New_York
BEGIN:DAYLIGHT
TZOFFSETFROM:-0500
TZOFFSETTO:-0400
TZNAME:EDT
DTSTART:20230312T070000
END:DAYLIGHT
BEGIN:STANDARD
TZOFFSETFROM:-0400
TZOFFSETTO:-0500
TZNAME:EST
DTSTART:20231105T060000
END:STANDARD
BEGIN:DAYLIGHT
TZOFFSETFROM:-0500
TZOFFSETTO:-0400
TZNAME:EDT
DTSTART:20240310T070000
END:DAYLIGHT
BEGIN:STANDARD
TZOFFSETFROM:-0400
TZOFFSETTO:-0500
TZNAME:EST
DTSTART:20241103T060000
END:STANDARD
BEGIN:DAYLIGHT
TZOFFSETFROM:-0500
TZOFFSETTO:-0400
TZNAME:EDT
DTSTART:20250309T070000
END:DAYLIGHT
BEGIN:STANDARD
TZOFFSETFROM:-0400
TZOFFSETTO:-0500
TZNAME:EST
DTSTART:20251102T060000
END:STANDARD
BEGIN:DAYLIGHT
TZOFFSETFROM:-0500
TZOFFSETTO:-0400
TZNAME:EDT
DTSTART:20260308T070000
END:DAYLIGHT
BEGIN:STANDARD
TZOFFSETFROM:-0400
TZOFFSETTO:-0500
TZNAME:EST
DTSTART:20261101T060000
END:STANDARD
BEGIN:DAYLIGHT
TZOFFSETFROM:-0500
TZOFFSETTO:-0400
TZNAME:EDT
DTSTART:20270314T070000
END:DAYLIGHT
BEGIN:STANDARD
TZOFFSETFROM:-0400
TZOFFSETTO:-0500
TZNAME:EST
DTSTART:20271107T060000
END:STANDARD
END:VTIMEZONE
BEGIN:VEVENT
DTSTART;VALUE=DATE:20260127
DTEND;VALUE=DATE:20260130
DTSTAMP:20260424T214036
CREATED:20251204T230153Z
LAST-MODIFIED:20251204T230153Z
UID:83385-1769472000-1769731199@fourseasonsdesigngroup.com
SUMMARY:GLENN GRIFFIN*
DESCRIPTION:NEAC SHOW\, 2026M DOUBLE TREE DOWNTOWN MANCHESTER NH \, EXPO CENTER
URL:https://fourseasonsdesigngroup.com/event/glenn-griffin/
CATEGORIES:Michael Michaud Design,Table Art
END:VEVENT
BEGIN:VEVENT
DTSTART;VALUE=DATE:20260125
DTEND;VALUE=DATE:20260128
DTSTAMP:20260424T214036
CREATED:20251204T230927Z
LAST-MODIFIED:20251204T230927Z
UID:83392-1769299200-1769558399@fourseasonsdesigngroup.com
SUMMARY:MAUREEN SHINNERS*
DESCRIPTION:THE MIX SHOW\, 5450 N CUMBERLAND AVE\, CHICAGO IL
URL:https://fourseasonsdesigngroup.com/event/maureen-shinners-13/
CATEGORIES:Michael Michaud Design,Table Art
END:VEVENT
BEGIN:VEVENT
DTSTART;VALUE=DATE:20260125
DTEND;VALUE=DATE:20260128
DTSTAMP:20260424T214036
CREATED:20251204T224822Z
LAST-MODIFIED:20251204T224822Z
UID:83378-1769299200-1769558399@fourseasonsdesigngroup.com
SUMMARY:PALLADIUM-GRETA BALLARD*
DESCRIPTION:FASHION MARKET–SOUTH SAN FRANCISCO
URL:https://fourseasonsdesigngroup.com/event/palladium-greta-ballard-13/
CATEGORIES:Michael Michaud Design,Table Art
END:VEVENT
BEGIN:VEVENT
DTSTART;VALUE=DATE:20260125
DTEND;VALUE=DATE:20260130
DTSTAMP:20260424T214036
CREATED:20251204T224628Z
LAST-MODIFIED:20251204T224628Z
UID:83376-1769299200-1769731199@fourseasonsdesigngroup.com
SUMMARY:PALLADIUM-GRETA BALLARD*
DESCRIPTION:LAS VEGAS GIFT MARKET\, PALLADIUM SHOWROOM #C-1092
URL:https://fourseasonsdesigngroup.com/event/palladium-greta-ballard-12/
CATEGORIES:Michael Michaud Design,Table Art
END:VEVENT
BEGIN:VEVENT
DTSTART;VALUE=DATE:20260114
DTEND;VALUE=DATE:20260116
DTSTAMP:20260424T214036
CREATED:20251204T230653Z
LAST-MODIFIED:20251204T230735Z
UID:83393-1768348800-1768521599@fourseasonsdesigngroup.com
SUMMARY:MAUREEN SHINNERS*
DESCRIPTION:AMES IOWA SHOW\, QUALITY INN SUITESM IOWA
URL:https://fourseasonsdesigngroup.com/event/maureen-shinners-12/
CATEGORIES:Michael Michaud Design,Table Art
END:VEVENT
BEGIN:VEVENT
DTSTART;VALUE=DATE:20260113
DTEND;VALUE=DATE:20260120
DTSTAMP:20260424T214036
CREATED:20251205T101435Z
LAST-MODIFIED:20251205T101435Z
UID:83399-1768262400-1768867199@fourseasonsdesigngroup.com
SUMMARY:JOYCE JONES*
DESCRIPTION:ATLANTA GIFT MARKET\nTHE JOYCE COLLECTION\nAMERICAS MARTM\, BLDG 3\, SHOWRROM 8E 112A\nATLANTA GA
URL:https://fourseasonsdesigngroup.com/event/joyce-jones-2/
CATEGORIES:Michael Michaud Design,Table Art
END:VEVENT
BEGIN:VEVENT
DTSTART;VALUE=DATE:20260113
DTEND;VALUE=DATE:20260120
DTSTAMP:20260424T214036
CREATED:20251204T230041Z
LAST-MODIFIED:20251204T230041Z
UID:83386-1768262400-1768867199@fourseasonsdesigngroup.com
SUMMARY:JOYCE JONES*
DESCRIPTION:ATLANTA GIFT MARKET
URL:https://fourseasonsdesigngroup.com/event/joyce-jones/
CATEGORIES:Michael Michaud Design,Table Art
END:VEVENT
BEGIN:VEVENT
DTSTART;VALUE=DATE:20260111
DTEND;VALUE=DATE:20260113
DTSTAMP:20260424T214036
CREATED:20251204T230549Z
LAST-MODIFIED:20251204T230549Z
UID:83394-1768089600-1768262399@fourseasonsdesigngroup.com
SUMMARY:MAUREEN SHINNERS*
DESCRIPTION:NORTHSTAR FASHION SHOW\, RIVER CENTER\, ST PAUL\, MN
URL:https://fourseasonsdesigngroup.com/event/maureen-shinners-11/
CATEGORIES:Michael Michaud Design,Table Art
END:VEVENT
BEGIN:VEVENT
DTSTART;VALUE=DATE:20250715
DTEND;VALUE=DATE:20250722
DTSTAMP:20260424T214036
CREATED:20250106T212840Z
LAST-MODIFIED:20250106T212840Z
UID:82517-1752537600-1753142399@fourseasonsdesigngroup.com
SUMMARY:Joyce Jones - The Joyce Collection
DESCRIPTION:Atlanta Market
URL:https://fourseasonsdesigngroup.com/event/joyce-jones-the-joyce-collection-7/
CATEGORIES:Michael Michaud Design,Table Art
END:VEVENT
BEGIN:VEVENT
DTSTART;VALUE=DATE:20250603
DTEND;VALUE=DATE:20250607
DTSTAMP:20260424T214036
CREATED:20250106T213107Z
LAST-MODIFIED:20250106T213107Z
UID:82525-1748908800-1749254399@fourseasonsdesigngroup.com
SUMMARY:Joyce Jones - The Joyce Collection
DESCRIPTION:Atlanta Apparel
URL:https://fourseasonsdesigngroup.com/event/joyce-jones-the-joyce-collection-10/
CATEGORIES:Michael Michaud Design,Table Art
END:VEVENT
BEGIN:VEVENT
DTSTART;VALUE=DATE:20250408
DTEND;VALUE=DATE:20250411
DTSTAMP:20260424T214036
CREATED:20250106T213301Z
LAST-MODIFIED:20250106T213301Z
UID:82527-1744070400-1744329599@fourseasonsdesigngroup.com
SUMMARY:Kathy Desmond
DESCRIPTION:Trendz Show – West Palm Beach
URL:https://fourseasonsdesigngroup.com/event/kathy-desmond-6/
CATEGORIES:Michael Michaud Design,Table Art
END:VEVENT
BEGIN:VEVENT
DTSTART;VALUE=DATE:20250406
DTEND;VALUE=DATE:20250409
DTSTAMP:20260424T214036
CREATED:20250106T211809Z
LAST-MODIFIED:20250106T211809Z
UID:82506-1743897600-1744156799@fourseasonsdesigngroup.com
SUMMARY:Palladium - Greta Ballard
DESCRIPTION:Fashion Market N. California
URL:https://fourseasonsdesigngroup.com/event/palladium-greta-ballard-10/
CATEGORIES:Michael Michaud Design,Table Art
END:VEVENT
BEGIN:VEVENT
DTSTART;VALUE=DATE:20250401
DTEND;VALUE=DATE:20250405
DTSTAMP:20260424T214036
CREATED:20250106T213003Z
LAST-MODIFIED:20250106T213003Z
UID:82520-1743465600-1743811199@fourseasonsdesigngroup.com
SUMMARY:Joyce Jones - The Joyce Collection
DESCRIPTION:Atlanta Apparel
URL:https://fourseasonsdesigngroup.com/event/joyce-jones-the-joyce-collection-9/
CATEGORIES:Michael Michaud Design,Table Art
END:VEVENT
BEGIN:VEVENT
DTSTART;VALUE=DATE:20250302
DTEND;VALUE=DATE:20250305
DTSTAMP:20260424T214036
CREATED:20250106T212503Z
LAST-MODIFIED:20250106T212503Z
UID:82512-1740873600-1741132799@fourseasonsdesigngroup.com
SUMMARY:Maureen Shinners
DESCRIPTION:Chicago Collective – Merchandise Mart – 7th Floor
URL:https://fourseasonsdesigngroup.com/event/maureen-shinners-10/
CATEGORIES:Michael Michaud Design,Table Art
END:VEVENT
BEGIN:VEVENT
DTSTART;VALUE=DATE:20250301
DTEND;VALUE=DATE:20250304
DTSTAMP:20260424T214036
CREATED:20250106T212128Z
LAST-MODIFIED:20250106T212128Z
UID:82503-1740787200-1741046399@fourseasonsdesigngroup.com
SUMMARY:Palladium - Greta Ballard
DESCRIPTION:NW Market Shows – Portland Oregon – (Room 206)
URL:https://fourseasonsdesigngroup.com/event/palladium-greta-ballard-11/
CATEGORIES:Michael Michaud Design,Table Art
END:VEVENT
BEGIN:VEVENT
DTSTART;VALUE=DATE:20250206
DTEND;VALUE=DATE:20250208
DTSTAMP:20260424T214036
CREATED:20250106T211421Z
LAST-MODIFIED:20250106T211421Z
UID:82496-1738800000-1738972799@fourseasonsdesigngroup.com
SUMMARY:Croker and Griffin - Glenn Griffin
DESCRIPTION:Travelers Show – Saratoga Springs City Center
URL:https://fourseasonsdesigngroup.com/event/croker-and-griffin-glenn-griffin-5/
CATEGORIES:Michael Michaud Design,Table Art
END:VEVENT
BEGIN:VEVENT
DTSTART;VALUE=DATE:20250204
DTEND;VALUE=DATE:20250208
DTSTAMP:20260424T214036
CREATED:20250106T212927Z
LAST-MODIFIED:20250106T212927Z
UID:82519-1738627200-1738972799@fourseasonsdesigngroup.com
SUMMARY:Joyce Jones - The Joyce Collection
DESCRIPTION:Atlanta Apparel
URL:https://fourseasonsdesigngroup.com/event/joyce-jones-the-joyce-collection-8/
CATEGORIES:Michael Michaud Design,Table Art
END:VEVENT
BEGIN:VEVENT
DTSTART;VALUE=DATE:20250202
DTEND;VALUE=DATE:20250204
DTSTAMP:20260424T214036
CREATED:20250106T212430Z
LAST-MODIFIED:20250106T212430Z
UID:82509-1738454400-1738627199@fourseasonsdesigngroup.com
SUMMARY:Maureen Shinners
DESCRIPTION:Livonia Metro Women’s – Embassy Suites
URL:https://fourseasonsdesigngroup.com/event/maureen-shinners-9/
CATEGORIES:Michael Michaud Design,Table Art
END:VEVENT
BEGIN:VEVENT
DTSTART;VALUE=DATE:20250202
DTEND;VALUE=DATE:20250205
DTSTAMP:20260424T214036
CREATED:20250106T211648Z
LAST-MODIFIED:20250106T211648Z
UID:82501-1738454400-1738713599@fourseasonsdesigngroup.com
SUMMARY:Palladium - Greta Ballard
DESCRIPTION:Fashion Market N. California – (Room 604)
URL:https://fourseasonsdesigngroup.com/event/palladium-greta-ballard-9/
CATEGORIES:Michael Michaud Design,Table Art
END:VEVENT
BEGIN:VEVENT
DTSTART;VALUE=DATE:20250128
DTEND;VALUE=DATE:20250131
DTSTAMP:20260424T214036
CREATED:20250106T211351Z
LAST-MODIFIED:20250106T211351Z
UID:82497-1738022400-1738281599@fourseasonsdesigngroup.com
SUMMARY:Croker and Griffin - Glenn Griffin
DESCRIPTION:NEAC – DoubleTree Manchester
URL:https://fourseasonsdesigngroup.com/event/croker-and-griffin-glenn-griffin-4/
CATEGORIES:Michael Michaud Design,Table Art
END:VEVENT
BEGIN:VEVENT
DTSTART;VALUE=DATE:20250126
DTEND;VALUE=DATE:20250129
DTSTAMP:20260424T214036
CREATED:20250106T212329Z
LAST-MODIFIED:20250106T212329Z
UID:82510-1737849600-1738108799@fourseasonsdesigngroup.com
SUMMARY:Maureen Shinners
DESCRIPTION:MIX Chicago – DesPlaines
URL:https://fourseasonsdesigngroup.com/event/maureen-shinners-8/
CATEGORIES:Michael Michaud Design,Table Art
END:VEVENT
BEGIN:VEVENT
DTSTART;VALUE=DATE:20250126
DTEND;VALUE=DATE:20250131
DTSTAMP:20260424T214036
CREATED:20250106T211604Z
LAST-MODIFIED:20250106T211604Z
UID:82502-1737849600-1738281599@fourseasonsdesigngroup.com
SUMMARY:Palladium - Greta Ballard
DESCRIPTION:Las Vegas Gift Market – Showroom C-1092
URL:https://fourseasonsdesigngroup.com/event/palladium-greta-ballard-8/
CATEGORIES:Michael Michaud Design,Table Art
END:VEVENT
BEGIN:VEVENT
DTSTART;VALUE=DATE:20250122
DTEND;VALUE=DATE:20250126
DTSTAMP:20260424T214036
CREATED:20250106T211146Z
LAST-MODIFIED:20250106T213332Z
UID:82493-1737504000-1737849599@fourseasonsdesigngroup.com
SUMMARY:Four Seasons Design Group
DESCRIPTION:Faire Market – please note we will not be attending NY NOW
URL:https://fourseasonsdesigngroup.com/event/four-seasons-design-group/
CATEGORIES:Michael Michaud Design,Table Art
END:VEVENT
BEGIN:VEVENT
DTSTART;VALUE=DATE:20250114
DTEND;VALUE=DATE:20250121
DTSTAMP:20260424T214036
CREATED:20250106T212810Z
LAST-MODIFIED:20250106T212810Z
UID:82516-1736812800-1737417599@fourseasonsdesigngroup.com
SUMMARY:Joyce Jones - The Joyce Collection
DESCRIPTION:Atlanta Market
URL:https://fourseasonsdesigngroup.com/event/joyce-jones-the-joyce-collection-6/
CATEGORIES:Michael Michaud Design,Table Art
END:VEVENT
BEGIN:VEVENT
DTSTART;VALUE=DATE:20250113
DTEND;VALUE=DATE:20250115
DTSTAMP:20260424T214036
CREATED:20250106T211322Z
LAST-MODIFIED:20250106T211322Z
UID:82495-1736726400-1736899199@fourseasonsdesigngroup.com
SUMMARY:Croker and Griffin - Glenn Griffin
DESCRIPTION:Travelers Show – Rhodes on the Pawtuxet
URL:https://fourseasonsdesigngroup.com/event/croker-and-griffin-glenn-griffin-3/
CATEGORIES:Michael Michaud Design,Table Art
END:VEVENT
BEGIN:VEVENT
DTSTART;VALUE=DATE:20250112
DTEND;VALUE=DATE:20250114
DTSTAMP:20260424T214036
CREATED:20250106T212257Z
LAST-MODIFIED:20250106T212257Z
UID:82511-1736640000-1736812799@fourseasonsdesigngroup.com
SUMMARY:Maureen Shinners
DESCRIPTION:Northstar – Booth 311
URL:https://fourseasonsdesigngroup.com/event/maureen-shinners-7/
CATEGORIES:Michael Michaud Design,Table Art
END:VEVENT
BEGIN:VEVENT
DTSTART;VALUE=DATE:20250104
DTEND;VALUE=DATE:20250107
DTSTAMP:20260424T214036
CREATED:20250106T213225Z
LAST-MODIFIED:20250106T213225Z
UID:82528-1735948800-1736207999@fourseasonsdesigngroup.com
SUMMARY:Kathy Desmond
DESCRIPTION:Trendz Show – West Palm Beach
URL:https://fourseasonsdesigngroup.com/event/kathy-desmond-5/
END:VEVENT
BEGIN:VEVENT
DTSTART;VALUE=DATE:20241027
DTEND;VALUE=DATE:20241030
DTSTAMP:20260424T214036
CREATED:20240626T192517Z
LAST-MODIFIED:20240626T192517Z
UID:82063-1729987200-1730246399@fourseasonsdesigngroup.com
SUMMARY:Kathy Desmond
DESCRIPTION:Trendz – West Palm Beach
URL:https://fourseasonsdesigngroup.com/event/kathy-desmond-4/
CATEGORIES:Michael Michaud Design,Table Art
END:VEVENT
BEGIN:VEVENT
DTSTART;VALUE=DATE:20241020
DTEND;VALUE=DATE:20241023
DTSTAMP:20260424T214036
CREATED:20240626T190822Z
LAST-MODIFIED:20240626T190822Z
UID:82039-1729382400-1729641599@fourseasonsdesigngroup.com
SUMMARY:Palladium - Greta Ballard
DESCRIPTION:Fashion Market N. California – Embassy Suites 
URL:https://fourseasonsdesigngroup.com/event/palladium-greta-ballard-7/
CATEGORIES:Michael Michaud Design,Table Art
END:VEVENT
BEGIN:VEVENT
DTSTART;VALUE=DATE:20241015
DTEND;VALUE=DATE:20241019
DTSTAMP:20260424T214036
CREATED:20240626T192120Z
LAST-MODIFIED:20240626T192120Z
UID:82057-1728950400-1729295999@fourseasonsdesigngroup.com
SUMMARY:Joyce Jones - The Joyce Collection
DESCRIPTION:Atlanta Apparel
URL:https://fourseasonsdesigngroup.com/event/joyce-jones-the-joyce-collection-4/
CATEGORIES:Michael Michaud Design,Table Art
END:VEVENT
END:VCALENDAR