BEGIN:VCALENDAR
VERSION:2.0
PRODID:-//Michael Michaud Design Wholesale Shop - ECPv6.15.20//NONSGML v1.0//EN
CALSCALE:GREGORIAN
METHOD:PUBLISH
X-WR-CALNAME:Michael Michaud Design Wholesale Shop
X-ORIGINAL-URL:https://fourseasonsdesigngroup.com
X-WR-CALDESC:Events for Michael Michaud Design Wholesale Shop
REFRESH-INTERVAL;VALUE=DURATION:PT1H
X-Robots-Tag:noindex
X-PUBLISHED-TTL:PT1H
BEGIN:VTIMEZONE
TZID:America/New_York
BEGIN:DAYLIGHT
TZOFFSETFROM:-0500
TZOFFSETTO:-0400
TZNAME:EDT
DTSTART:20220313T070000
END:DAYLIGHT
BEGIN:STANDARD
TZOFFSETFROM:-0400
TZOFFSETTO:-0500
TZNAME:EST
DTSTART:20221106T060000
END:STANDARD
BEGIN:DAYLIGHT
TZOFFSETFROM:-0500
TZOFFSETTO:-0400
TZNAME:EDT
DTSTART:20230312T070000
END:DAYLIGHT
BEGIN:STANDARD
TZOFFSETFROM:-0400
TZOFFSETTO:-0500
TZNAME:EST
DTSTART:20231105T060000
END:STANDARD
BEGIN:DAYLIGHT
TZOFFSETFROM:-0500
TZOFFSETTO:-0400
TZNAME:EDT
DTSTART:20240310T070000
END:DAYLIGHT
BEGIN:STANDARD
TZOFFSETFROM:-0400
TZOFFSETTO:-0500
TZNAME:EST
DTSTART:20241103T060000
END:STANDARD
BEGIN:DAYLIGHT
TZOFFSETFROM:-0500
TZOFFSETTO:-0400
TZNAME:EDT
DTSTART:20250309T070000
END:DAYLIGHT
BEGIN:STANDARD
TZOFFSETFROM:-0400
TZOFFSETTO:-0500
TZNAME:EST
DTSTART:20251102T060000
END:STANDARD
BEGIN:DAYLIGHT
TZOFFSETFROM:-0500
TZOFFSETTO:-0400
TZNAME:EDT
DTSTART:20260308T070000
END:DAYLIGHT
BEGIN:STANDARD
TZOFFSETFROM:-0400
TZOFFSETTO:-0500
TZNAME:EST
DTSTART:20261101T060000
END:STANDARD
END:VTIMEZONE
BEGIN:VEVENT
DTSTART;VALUE=DATE:20250202
DTEND;VALUE=DATE:20250205
DTSTAMP:20260424T231300
CREATED:20250106T211648Z
LAST-MODIFIED:20250106T211648Z
UID:82501-1738454400-1738713599@fourseasonsdesigngroup.com
SUMMARY:Palladium - Greta Ballard
DESCRIPTION:Fashion Market N. California – (Room 604)
URL:https://fourseasonsdesigngroup.com/event/palladium-greta-ballard-9/
CATEGORIES:Michael Michaud Design,Table Art
END:VEVENT
BEGIN:VEVENT
DTSTART;VALUE=DATE:20250128
DTEND;VALUE=DATE:20250131
DTSTAMP:20260424T231300
CREATED:20250106T211351Z
LAST-MODIFIED:20250106T211351Z
UID:82497-1738022400-1738281599@fourseasonsdesigngroup.com
SUMMARY:Croker and Griffin - Glenn Griffin
DESCRIPTION:NEAC – DoubleTree Manchester
URL:https://fourseasonsdesigngroup.com/event/croker-and-griffin-glenn-griffin-4/
CATEGORIES:Michael Michaud Design,Table Art
END:VEVENT
BEGIN:VEVENT
DTSTART;VALUE=DATE:20250126
DTEND;VALUE=DATE:20250129
DTSTAMP:20260424T231300
CREATED:20250106T212329Z
LAST-MODIFIED:20250106T212329Z
UID:82510-1737849600-1738108799@fourseasonsdesigngroup.com
SUMMARY:Maureen Shinners
DESCRIPTION:MIX Chicago – DesPlaines
URL:https://fourseasonsdesigngroup.com/event/maureen-shinners-8/
CATEGORIES:Michael Michaud Design,Table Art
END:VEVENT
BEGIN:VEVENT
DTSTART;VALUE=DATE:20250126
DTEND;VALUE=DATE:20250131
DTSTAMP:20260424T231300
CREATED:20250106T211604Z
LAST-MODIFIED:20250106T211604Z
UID:82502-1737849600-1738281599@fourseasonsdesigngroup.com
SUMMARY:Palladium - Greta Ballard
DESCRIPTION:Las Vegas Gift Market – Showroom C-1092
URL:https://fourseasonsdesigngroup.com/event/palladium-greta-ballard-8/
CATEGORIES:Michael Michaud Design,Table Art
END:VEVENT
BEGIN:VEVENT
DTSTART;VALUE=DATE:20250122
DTEND;VALUE=DATE:20250126
DTSTAMP:20260424T231300
CREATED:20250106T211146Z
LAST-MODIFIED:20250106T213332Z
UID:82493-1737504000-1737849599@fourseasonsdesigngroup.com
SUMMARY:Four Seasons Design Group
DESCRIPTION:Faire Market – please note we will not be attending NY NOW
URL:https://fourseasonsdesigngroup.com/event/four-seasons-design-group/
CATEGORIES:Michael Michaud Design,Table Art
END:VEVENT
BEGIN:VEVENT
DTSTART;VALUE=DATE:20250114
DTEND;VALUE=DATE:20250121
DTSTAMP:20260424T231300
CREATED:20250106T212810Z
LAST-MODIFIED:20250106T212810Z
UID:82516-1736812800-1737417599@fourseasonsdesigngroup.com
SUMMARY:Joyce Jones - The Joyce Collection
DESCRIPTION:Atlanta Market
URL:https://fourseasonsdesigngroup.com/event/joyce-jones-the-joyce-collection-6/
CATEGORIES:Michael Michaud Design,Table Art
END:VEVENT
BEGIN:VEVENT
DTSTART;VALUE=DATE:20250113
DTEND;VALUE=DATE:20250115
DTSTAMP:20260424T231300
CREATED:20250106T211322Z
LAST-MODIFIED:20250106T211322Z
UID:82495-1736726400-1736899199@fourseasonsdesigngroup.com
SUMMARY:Croker and Griffin - Glenn Griffin
DESCRIPTION:Travelers Show – Rhodes on the Pawtuxet
URL:https://fourseasonsdesigngroup.com/event/croker-and-griffin-glenn-griffin-3/
CATEGORIES:Michael Michaud Design,Table Art
END:VEVENT
BEGIN:VEVENT
DTSTART;VALUE=DATE:20250112
DTEND;VALUE=DATE:20250114
DTSTAMP:20260424T231300
CREATED:20250106T212257Z
LAST-MODIFIED:20250106T212257Z
UID:82511-1736640000-1736812799@fourseasonsdesigngroup.com
SUMMARY:Maureen Shinners
DESCRIPTION:Northstar – Booth 311
URL:https://fourseasonsdesigngroup.com/event/maureen-shinners-7/
CATEGORIES:Michael Michaud Design,Table Art
END:VEVENT
BEGIN:VEVENT
DTSTART;VALUE=DATE:20250104
DTEND;VALUE=DATE:20250107
DTSTAMP:20260424T231300
CREATED:20250106T213225Z
LAST-MODIFIED:20250106T213225Z
UID:82528-1735948800-1736207999@fourseasonsdesigngroup.com
SUMMARY:Kathy Desmond
DESCRIPTION:Trendz Show – West Palm Beach
URL:https://fourseasonsdesigngroup.com/event/kathy-desmond-5/
END:VEVENT
BEGIN:VEVENT
DTSTART;VALUE=DATE:20241027
DTEND;VALUE=DATE:20241030
DTSTAMP:20260424T231300
CREATED:20240626T192517Z
LAST-MODIFIED:20240626T192517Z
UID:82063-1729987200-1730246399@fourseasonsdesigngroup.com
SUMMARY:Kathy Desmond
DESCRIPTION:Trendz – West Palm Beach
URL:https://fourseasonsdesigngroup.com/event/kathy-desmond-4/
CATEGORIES:Michael Michaud Design,Table Art
END:VEVENT
BEGIN:VEVENT
DTSTART;VALUE=DATE:20241020
DTEND;VALUE=DATE:20241023
DTSTAMP:20260424T231300
CREATED:20240626T190822Z
LAST-MODIFIED:20240626T190822Z
UID:82039-1729382400-1729641599@fourseasonsdesigngroup.com
SUMMARY:Palladium - Greta Ballard
DESCRIPTION:Fashion Market N. California – Embassy Suites 
URL:https://fourseasonsdesigngroup.com/event/palladium-greta-ballard-7/
CATEGORIES:Michael Michaud Design,Table Art
END:VEVENT
BEGIN:VEVENT
DTSTART;VALUE=DATE:20241015
DTEND;VALUE=DATE:20241019
DTSTAMP:20260424T231300
CREATED:20240626T192120Z
LAST-MODIFIED:20240626T192120Z
UID:82057-1728950400-1729295999@fourseasonsdesigngroup.com
SUMMARY:Joyce Jones - The Joyce Collection
DESCRIPTION:Atlanta Apparel
URL:https://fourseasonsdesigngroup.com/event/joyce-jones-the-joyce-collection-4/
CATEGORIES:Michael Michaud Design,Table Art
END:VEVENT
BEGIN:VEVENT
DTSTART;VALUE=DATE:20240918
DTEND;VALUE=DATE:20240921
DTSTAMP:20260424T231300
CREATED:20240626T191649Z
LAST-MODIFIED:20240626T191649Z
UID:82051-1726617600-1726876799@fourseasonsdesigngroup.com
SUMMARY:Maureen Shinners
DESCRIPTION:NY COTERIE Show
URL:https://fourseasonsdesigngroup.com/event/maureen-shinners-6/
CATEGORIES:Michael Michaud Design,Table Art
END:VEVENT
BEGIN:VEVENT
DTSTART;VALUE=DATE:20240827
DTEND;VALUE=DATE:20240830
DTSTAMP:20260424T231300
CREATED:20240626T191459Z
LAST-MODIFIED:20240810T203210Z
UID:82049-1724716800-1724975999@fourseasonsdesigngroup.com
SUMMARY:Maureen Shinners
DESCRIPTION:Chicago Collective – Merchandise Mart
URL:https://fourseasonsdesigngroup.com/event/maureen-shinners-5/
CATEGORIES:Michael Michaud Design,Table Art
END:VEVENT
BEGIN:VEVENT
DTSTART;VALUE=DATE:20240826
DTEND;VALUE=DATE:20240829
DTSTAMP:20260424T231300
CREATED:20240626T185808Z
LAST-MODIFIED:20240626T185808Z
UID:82030-1724630400-1724889599@fourseasonsdesigngroup.com
SUMMARY:Croker and Griffin - Glenn Griffin
DESCRIPTION:NEAC – DoubleTree Manchester
URL:https://fourseasonsdesigngroup.com/event/croker-and-griffin-glenn-griffin-2/
CATEGORIES:Michael Michaud Design,Table Art
END:VEVENT
BEGIN:VEVENT
DTSTART;VALUE=DATE:20240825
DTEND;VALUE=DATE:20240828
DTSTAMP:20260424T231300
CREATED:20240626T192419Z
LAST-MODIFIED:20240626T192419Z
UID:82061-1724544000-1724803199@fourseasonsdesigngroup.com
SUMMARY:Kathy Desmond
DESCRIPTION:Trendz – West Palm Beach
URL:https://fourseasonsdesigngroup.com/event/kathy-desmond-3/
CATEGORIES:Michael Michaud Design,Table Art
END:VEVENT
BEGIN:VEVENT
DTSTART;VALUE=DATE:20240825
DTEND;VALUE=DATE:20240828
DTSTAMP:20260424T231300
CREATED:20240626T190545Z
LAST-MODIFIED:20240626T190545Z
UID:82036-1724544000-1724803199@fourseasonsdesigngroup.com
SUMMARY:Palladium - Greta Ballard
DESCRIPTION:Fashion Market N. California – Embassy Suites 
URL:https://fourseasonsdesigngroup.com/event/palladium-greta-ballard-6/
CATEGORIES:Michael Michaud Design,Table Art
END:VEVENT
BEGIN:VEVENT
DTSTART;VALUE=DATE:20240811
DTEND;VALUE=DATE:20240814
DTSTAMP:20260424T231300
CREATED:20240626T191313Z
LAST-MODIFIED:20240626T191338Z
UID:82046-1723334400-1723593599@fourseasonsdesigngroup.com
SUMMARY:Maureen Shinners
DESCRIPTION:MIX Chicago – DesPlaines
URL:https://fourseasonsdesigngroup.com/event/maureen-shinners-4/
CATEGORIES:Michael Michaud Design,Table Art
END:VEVENT
BEGIN:VEVENT
DTSTART;VALUE=DATE:20240807
DTEND;VALUE=DATE:20240810
DTSTAMP:20260424T231300
CREATED:20240626T191157Z
LAST-MODIFIED:20240626T191157Z
UID:82044-1722988800-1723247999@fourseasonsdesigngroup.com
SUMMARY:Maureen Shinners
DESCRIPTION:MAGIC Las Vegas
URL:https://fourseasonsdesigngroup.com/event/maureen-shinners-3/
CATEGORIES:Michael Michaud Design,Table Art
END:VEVENT
BEGIN:VEVENT
DTSTART;VALUE=DATE:20240804
DTEND;VALUE=DATE:20240807
DTSTAMP:20260424T231300
CREATED:20240626T190958Z
LAST-MODIFIED:20240626T191026Z
UID:82041-1722729600-1722988799@fourseasonsdesigngroup.com
SUMMARY:Maureen Shinners
DESCRIPTION:Northstar – Booth 406
URL:https://fourseasonsdesigngroup.com/event/maureen-shinners-2/
CATEGORIES:Michael Michaud Design,Table Art
END:VEVENT
BEGIN:VEVENT
DTSTART;VALUE=DATE:20240804
DTEND;VALUE=DATE:20240808
DTSTAMP:20260424T231300
CREATED:20240626T185632Z
LAST-MODIFIED:20240626T185909Z
UID:82028-1722729600-1723075199@fourseasonsdesigngroup.com
SUMMARY:Four Seasons Design Group
DESCRIPTION:NY NOW – Javits Center – Booth 834 With PURENY
URL:https://fourseasonsdesigngroup.com/event/ny-now-6/
CATEGORIES:Michael Michaud Design,Table Art
END:VEVENT
BEGIN:VEVENT
DTSTART;VALUE=DATE:20240730
DTEND;VALUE=DATE:20240803
DTSTAMP:20260424T231300
CREATED:20240626T191942Z
LAST-MODIFIED:20240626T191942Z
UID:82054-1722297600-1722643199@fourseasonsdesigngroup.com
SUMMARY:Joyce Jones - The Joyce Collection
DESCRIPTION:Atlanta Apparel
URL:https://fourseasonsdesigngroup.com/event/joyce-jones-the-joyce-collection-3/
CATEGORIES:Michael Michaud Design,Table Art
END:VEVENT
BEGIN:VEVENT
DTSTART;VALUE=DATE:20240728
DTEND;VALUE=DATE:20240802
DTSTAMP:20260424T231300
CREATED:20240626T190023Z
LAST-MODIFIED:20240626T190023Z
UID:82032-1722124800-1722556799@fourseasonsdesigngroup.com
SUMMARY:Palladium - Greta Ballard
DESCRIPTION:Las Vegas Gift Market – Showroom C-1092
URL:https://fourseasonsdesigngroup.com/event/palladium-greta-ballard-5/
CATEGORIES:Michael Michaud Design,Table Art
END:VEVENT
BEGIN:VEVENT
DTSTART;VALUE=DATE:20240716
DTEND;VALUE=DATE:20240719
DTSTAMP:20260424T231300
CREATED:20240626T192252Z
LAST-MODIFIED:20240626T192252Z
UID:82059-1721088000-1721347199@fourseasonsdesigngroup.com
SUMMARY:Joyce Jones - The Joyce Collection
DESCRIPTION:Fall Market
URL:https://fourseasonsdesigngroup.com/event/joyce-jones-the-joyce-collection-5/
CATEGORIES:Michael Michaud Design,Table Art
END:VEVENT
BEGIN:VEVENT
DTSTART;VALUE=DATE:20240715
DTEND;VALUE=DATE:20240722
DTSTAMP:20260424T231300
CREATED:20240626T191826Z
LAST-MODIFIED:20240626T191826Z
UID:82053-1721001600-1721606399@fourseasonsdesigngroup.com
SUMMARY:Joyce Jones - The Joyce Collection
DESCRIPTION:Atlanta Market
URL:https://fourseasonsdesigngroup.com/event/joyce-jones-the-joyce-collection-2/
CATEGORIES:Michael Michaud Design,Table Art
END:VEVENT
BEGIN:VEVENT
DTSTART;VALUE=DATE:20231022
DTEND;VALUE=DATE:20231025
DTSTAMP:20260424T231300
CREATED:20230622T010718Z
LAST-MODIFIED:20230622T010718Z
UID:81440-1697932800-1698191999@fourseasonsdesigngroup.com
SUMMARY:Kathy Desmond
DESCRIPTION:Trendz – West Palm Beach
URL:https://fourseasonsdesigngroup.com/event/kathy-desmond-2/
CATEGORIES:Michael Michaud Design,Table Art
END:VEVENT
BEGIN:VEVENT
DTSTART;VALUE=DATE:20230909
DTEND;VALUE=DATE:20230912
DTSTAMP:20260424T231300
CREATED:20230622T010116Z
LAST-MODIFIED:20230622T010116Z
UID:81433-1694217600-1694476799@fourseasonsdesigngroup.com
SUMMARY:Palladium - Greta Ballard
DESCRIPTION:NW Market – Embassy Suites Tigard\, OR – Room 206
URL:https://fourseasonsdesigngroup.com/event/palladium-greta-ballard-4/
CATEGORIES:Michael Michaud Design,Table Art
END:VEVENT
BEGIN:VEVENT
DTSTART;VALUE=DATE:20230828
DTEND;VALUE=DATE:20230831
DTSTAMP:20260424T231300
CREATED:20230622T005522Z
LAST-MODIFIED:20230622T005753Z
UID:81424-1693180800-1693439999@fourseasonsdesigngroup.com
SUMMARY:Croker and Griffin - Glenn Griffin
DESCRIPTION:NEAC – Manchester
URL:https://fourseasonsdesigngroup.com/event/croker-and-griffin-glenn-griffin/
CATEGORIES:Michael Michaud Design,Table Art
END:VEVENT
BEGIN:VEVENT
DTSTART;VALUE=DATE:20230827
DTEND;VALUE=DATE:20230830
DTSTAMP:20260424T231300
CREATED:20230622T010611Z
LAST-MODIFIED:20230622T010611Z
UID:81441-1693094400-1693353599@fourseasonsdesigngroup.com
SUMMARY:Kathy Desmond
DESCRIPTION:Trendz – West Palm Beach
URL:https://fourseasonsdesigngroup.com/event/kathy-desmond/
CATEGORIES:Michael Michaud Design,Table Art
END:VEVENT
BEGIN:VEVENT
DTSTART;VALUE=DATE:20230827
DTEND;VALUE=DATE:20230830
DTSTAMP:20260424T231300
CREATED:20230622T010218Z
LAST-MODIFIED:20230622T010310Z
UID:81435-1693094400-1693353599@fourseasonsdesigngroup.com
SUMMARY:Maureen Shinners
DESCRIPTION:Chicago Collective – Merchandise Mart
URL:https://fourseasonsdesigngroup.com/event/maureen-shinners/
CATEGORIES:Michael Michaud Design,Table Art
END:VEVENT
END:VCALENDAR